BEGIN:VCALENDAR
VERSION:2.0
PRODID:-//hacksw/handcal//NONSGML v1.0//EN
BEGIN:VEVENT
SUMMARY:Sortie Club 3 du 22 au 25 mai 2026
UID:7403d505-510f-4c16-89f7-ba4d64e3dcdf
DTSTART:20260521T220000Z
DTEND:20260525T220000Z
LOCATION:Saint-Mandrier Esplanade John Kennedy 83430  Saint-Mandrier-sur-Mer
CATEGORIES:Sportif
STATUS:
DESCRIPTION:<p>Bateau suplementaire apres les 2 bateaux Club &
 Formation et sortie longue</p>
URL;VALUE=URI:https://www.dynamiquevoile.org/evenements/2026/05/22/sortie-club-3-du-22-au-25-mai-2026-2436303
END:VEVENT
END:VCALENDAR
