BEGIN:VCALENDAR
VERSION:2.0
PRODID:-//hacksw/handcal//NONSGML v1.0//EN
BEGIN:VEVENT
SUMMARY:Sortie Club 2 du 22 au 25 mai 2026 (4 jours)
UID:741d11ae-93c3-4a2e-9b66-041b864bdc6c
DTSTART:20260521T220000Z
DTEND:20260525T220000Z
LOCATION:Saint-Mandrier Esplanade John Kennedy 83430  Saint-Mandrier-sur-Mer
CATEGORIES:Sportif
STATUS:
URL;VALUE=URI:https://www.dynamiquevoile.org/evenements/2026/05/22/sortie-club-2-du-22-au-25-mai-2026-4-jours-2420991
END:VEVENT
END:VCALENDAR
