BEGIN:VCALENDAR
VERSION:2.0
PRODID:-//hacksw/handcal//NONSGML v1.0//EN
BEGIN:VEVENT
SUMMARY:Sortie Club 1 du 22 au 25 mai 2026 (4 jours)
UID:62dd769f-0a80-46a4-b465-83a1a8a595ab
DTSTART:20260521T220000Z
DTEND:20260525T220000Z
LOCATION:Saint-Mandrier Esplanade John Kennedy 83430  Saint-Mandrier-sur-Mer
CATEGORIES:Sportif
STATUS:
DESCRIPTION:<p>Attention sortie de 4 jours (inclut lundi de
 Pentecote)</p>
 
 <p>Prix a preciser (plus cher cause allogement de + 1
 jour et pont)</p>
URL;VALUE=URI:https://www.dynamiquevoile.org/evenements/2026/05/22/sortie-club-1-du-22-au-25-mai-2026-4-jours-2313121
END:VEVENT
END:VCALENDAR
