BEGIN:VCALENDAR
VERSION:2.0
PRODID:-//hacksw/handcal//NONSGML v1.0//EN
BEGIN:VEVENT
SUMMARY:Sortie Club 2 du 24 au 26 avril 2026
UID:99dfbc3c-3fae-44b6-bfa2-538ad670abd3
DTSTART:20260423T220000Z
DTEND:20260426T220000Z
LOCATION:Saint-Mandrier Esplanade John Kennedy 83430  Saint-Mandrier-sur-Mer
CATEGORIES:Sportif
STATUS:
URL;VALUE=URI:https://www.dynamiquevoile.org/evenements/2026/04/24/sortie-club-2-du-24-au-26-avril-2026-2313118
END:VEVENT
END:VCALENDAR
