BEGIN:VCALENDAR
VERSION:2.0
PRODID:-//hacksw/handcal//NONSGML v1.0//EN
BEGIN:VEVENT
SUMMARY:Sortie Club 1 du 24 au 26 avril 2026
UID:503e3812-f5f3-4574-87f8-c0a089cb405b
DTSTART:20260423T220000Z
DTEND:20260426T220000Z
LOCATION:Saint-Mandrier Esplanade John Kennedy 83430  Saint-Mandrier-sur-Mer
CATEGORIES:Sportif
STATUS:
URL;VALUE=URI:https://www.dynamiquevoile.org/evenements/2026/04/24/sortie-club-1-du-24-au-26-avril-2026-2396762
END:VEVENT
END:VCALENDAR
